BEGIN:VCALENDAR
VERSION:2.0
PRODID:-//118 Elliot - ECPv6.15.17.1//NONSGML v1.0//EN
CALSCALE:GREGORIAN
METHOD:PUBLISH
X-WR-CALNAME:118 Elliot
X-ORIGINAL-URL:https://118elliot.com
X-WR-CALDESC:Events for 118 Elliot
REFRESH-INTERVAL;VALUE=DURATION:PT1H
X-Robots-Tag:noindex
X-PUBLISHED-TTL:PT1H
BEGIN:VTIMEZONE
TZID:America/New_York
BEGIN:DAYLIGHT
TZOFFSETFROM:-0500
TZOFFSETTO:-0400
TZNAME:EDT
DTSTART:20180311T070000
END:DAYLIGHT
BEGIN:STANDARD
TZOFFSETFROM:-0400
TZOFFSETTO:-0500
TZNAME:EST
DTSTART:20181104T060000
END:STANDARD
BEGIN:DAYLIGHT
TZOFFSETFROM:-0500
TZOFFSETTO:-0400
TZNAME:EDT
DTSTART:20190310T070000
END:DAYLIGHT
BEGIN:STANDARD
TZOFFSETFROM:-0400
TZOFFSETTO:-0500
TZNAME:EST
DTSTART:20191103T060000
END:STANDARD
BEGIN:DAYLIGHT
TZOFFSETFROM:-0500
TZOFFSETTO:-0400
TZNAME:EDT
DTSTART:20200308T070000
END:DAYLIGHT
BEGIN:STANDARD
TZOFFSETFROM:-0400
TZOFFSETTO:-0500
TZNAME:EST
DTSTART:20201101T060000
END:STANDARD
END:VTIMEZONE
BEGIN:VEVENT
DTSTART;TZID=America/New_York:20190903T170000
DTEND;TZID=America/New_York:20190903T183000
DTSTAMP:20260424T171937
CREATED:20190506T163800Z
LAST-MODIFIED:20191125T183552Z
UID:3124-1567530000-1567535400@118elliot.com
SUMMARY:Yoga Locally
DESCRIPTION:Yoga Locally \nTuesdays 5:00 to 6:30 pm \nThursdays 4:00 to 5:15 pm \nSaturdays 10:00 to 11:30 am \nVinyasa yoga by $5-15 donation. \nAll proceeds go to Food Connects\, Women’s Freedom Center\, Turning Point of Windham County\, and Windham Child Care Association. Live music accompanies some classes. Heal yourself\, heal your community! \nFor updates & more info: yogalocally.org\, Yoga Locally on Facebook\, yogalocally@gmail.com\, or 802-579-6613.
URL:https://118elliot.com/event/yoga-locally-3/2019-09-03/
CATEGORIES:Classes & Ongoing Events
ATTACH;FMTTYPE=image/jpeg:https://118elliot.com/wp-content/uploads/2019/05/yoga-locally2.jpg
ORGANIZER;CN="Yoga Locally":MAILTO:yogalocally@gmail.com
END:VEVENT
END:VCALENDAR