BEGIN:VCALENDAR
VERSION:2.0
PRODID:-//118 Elliot - ECPv6.15.17.1//NONSGML v1.0//EN
CALSCALE:GREGORIAN
METHOD:PUBLISH
X-WR-CALNAME:118 Elliot
X-ORIGINAL-URL:https://118elliot.com
X-WR-CALDESC:Events for 118 Elliot
REFRESH-INTERVAL;VALUE=DURATION:PT1H
X-Robots-Tag:noindex
X-PUBLISHED-TTL:PT1H
BEGIN:VTIMEZONE
TZID:America/New_York
BEGIN:DAYLIGHT
TZOFFSETFROM:-0500
TZOFFSETTO:-0400
TZNAME:EDT
DTSTART:20170312T070000
END:DAYLIGHT
BEGIN:STANDARD
TZOFFSETFROM:-0400
TZOFFSETTO:-0500
TZNAME:EST
DTSTART:20171105T060000
END:STANDARD
BEGIN:DAYLIGHT
TZOFFSETFROM:-0500
TZOFFSETTO:-0400
TZNAME:EDT
DTSTART:20180311T070000
END:DAYLIGHT
BEGIN:STANDARD
TZOFFSETFROM:-0400
TZOFFSETTO:-0500
TZNAME:EST
DTSTART:20181104T060000
END:STANDARD
BEGIN:DAYLIGHT
TZOFFSETFROM:-0500
TZOFFSETTO:-0400
TZNAME:EDT
DTSTART:20190310T070000
END:DAYLIGHT
BEGIN:STANDARD
TZOFFSETFROM:-0400
TZOFFSETTO:-0500
TZNAME:EST
DTSTART:20191103T060000
END:STANDARD
END:VTIMEZONE
BEGIN:VEVENT
DTSTART;TZID=America/New_York:20180623T061500
DTEND;TZID=America/New_York:20180623T074500
DTSTAMP:20260424T171946
CREATED:20180617T233324Z
LAST-MODIFIED:20180618T001409Z
UID:496-1529734500-1529739900@118elliot.com
SUMMARY:Yoga Locally (Saturdays)
DESCRIPTION:Yoga Locally Saturdays from 10:15 am to 11:45 am. Vinyasa yoga by $5-15 donation. All proceeds go to Food Connects\, Women’s Freedom Center\, Turning Point of Windham County\, and Windham Child Care Association. Live music accompanies some classes. Heal yourself\, heal your community! For updates & more info: yogalocally.org\, Yoga Locally on Facebook\, yogalocally@gmail.com\, or 802-579-6613.
URL:https://118elliot.com/event/yoga-locally-2/2018-06-23/
CATEGORIES:Classes & Ongoing Events
ATTACH;FMTTYPE=image/jpeg:https://118elliot.com/wp-content/uploads/2018/06/yoga-locally.jpg
END:VEVENT
END:VCALENDAR