BEGIN:VCALENDAR
VERSION:2.0
PRODID:-//118 Elliot - ECPv6.15.17.1//NONSGML v1.0//EN
CALSCALE:GREGORIAN
METHOD:PUBLISH
X-ORIGINAL-URL:https://118elliot.com
X-WR-CALDESC:Events for 118 Elliot
REFRESH-INTERVAL;VALUE=DURATION:PT1H
X-Robots-Tag:noindex
X-PUBLISHED-TTL:PT1H
BEGIN:VTIMEZONE
TZID:America/New_York
BEGIN:DAYLIGHT
TZOFFSETFROM:-0500
TZOFFSETTO:-0400
TZNAME:EDT
DTSTART:20180311T070000
END:DAYLIGHT
BEGIN:STANDARD
TZOFFSETFROM:-0400
TZOFFSETTO:-0500
TZNAME:EST
DTSTART:20181104T060000
END:STANDARD
BEGIN:DAYLIGHT
TZOFFSETFROM:-0500
TZOFFSETTO:-0400
TZNAME:EDT
DTSTART:20190310T070000
END:DAYLIGHT
BEGIN:STANDARD
TZOFFSETFROM:-0400
TZOFFSETTO:-0500
TZNAME:EST
DTSTART:20191103T060000
END:STANDARD
BEGIN:DAYLIGHT
TZOFFSETFROM:-0500
TZOFFSETTO:-0400
TZNAME:EDT
DTSTART:20200308T070000
END:DAYLIGHT
BEGIN:STANDARD
TZOFFSETFROM:-0400
TZOFFSETTO:-0500
TZNAME:EST
DTSTART:20201101T060000
END:STANDARD
END:VTIMEZONE
BEGIN:VEVENT
DTSTART;TZID=America/New_York:20190922T180000
DTEND;TZID=America/New_York:20190922T200000
DTSTAMP:20260425T222216
CREATED:20190918T173307Z
LAST-MODIFIED:20191101T181336Z
UID:4354-1569175200-1569182400@118elliot.com
SUMMARY:Word Café: Night Writing
DESCRIPTION:Writing is lonely work. Why not sometimes do it together? \nAn evening writing group for late-risers and 9-5ers. \nHow it Works: We will briefly introduce ourselves and our projects/goals at the beginning of each session\, and then work quietly side by side. Writers re-circle for the last fifteen minutes to discuss what they discovered and accomplished during their writing time. All are welcome. \nFacilitator: Desmond Peeples \nCost: $5-10 suggested donation. (These donations pay the facilitators for their time—thank you for your support! No one will be turned away for luck of funds.) \nBrought to you by Robin MacArthur’s Word House\, Word Café is held twice a week: Monday mornings\, 9-11 AM in the Hooker Dunham Building at 139 Main Street\, and Sunday evenings\, 6-8 PM here at 118 Elliot. \nWORD HOUSE is an emerging entity dedicated to fostering the literary and creative arts in Brattleboro\, Vermont (and the surrounding area). Our intention is to offer writing space\, workshops\, mentoring and readings\, all aimed to enrich the writing & artistic lives of a diverse population in our region.
URL:https://118elliot.com/event/word-cafe-night-writing/2019-09-22/
LOCATION:118 Elliot
CATEGORIES:Literary
ATTACH;FMTTYPE=image/png:https://118elliot.com/wp-content/uploads/2019/09/Word-Café_-Night-Writing-1.png
END:VEVENT
END:VCALENDAR