BEGIN:VCALENDAR
VERSION:2.0
PRODID:-//118 Elliot - ECPv6.15.17.1//NONSGML v1.0//EN
CALSCALE:GREGORIAN
METHOD:PUBLISH
X-WR-CALNAME:118 Elliot
X-ORIGINAL-URL:https://118elliot.com
X-WR-CALDESC:Events for 118 Elliot
REFRESH-INTERVAL;VALUE=DURATION:PT1H
X-Robots-Tag:noindex
X-PUBLISHED-TTL:PT1H
BEGIN:VTIMEZONE
TZID:America/New_York
BEGIN:DAYLIGHT
TZOFFSETFROM:-0500
TZOFFSETTO:-0400
TZNAME:EDT
DTSTART:20180311T070000
END:DAYLIGHT
BEGIN:STANDARD
TZOFFSETFROM:-0400
TZOFFSETTO:-0500
TZNAME:EST
DTSTART:20181104T060000
END:STANDARD
BEGIN:DAYLIGHT
TZOFFSETFROM:-0500
TZOFFSETTO:-0400
TZNAME:EDT
DTSTART:20190310T070000
END:DAYLIGHT
BEGIN:STANDARD
TZOFFSETFROM:-0400
TZOFFSETTO:-0500
TZNAME:EST
DTSTART:20191103T060000
END:STANDARD
BEGIN:DAYLIGHT
TZOFFSETFROM:-0500
TZOFFSETTO:-0400
TZNAME:EDT
DTSTART:20200308T070000
END:DAYLIGHT
BEGIN:STANDARD
TZOFFSETFROM:-0400
TZOFFSETTO:-0500
TZNAME:EST
DTSTART:20201101T060000
END:STANDARD
END:VTIMEZONE
BEGIN:VEVENT
DTSTART;VALUE=DATE:20191018
DTEND;VALUE=DATE:20191019
DTSTAMP:20260425T204715
CREATED:20190204T201936Z
LAST-MODIFIED:20191014T165622Z
UID:2775-1571356800-1571443199@118elliot.com
SUMMARY:The Brattleboro Literary Festival
DESCRIPTION:The 18th Annual Brattleboro Literary Festival \nFriday\, October 18 through Sunday\, October 20\n \n\n\nThe 18th annual Brattleboro Literary Festival will take place October 17-20 at locations across Brattleboro\, with readings and special events held at 118 Elliot on Friday\, Saturday\, and Sunday. The theme of the 2019 festival is Identity: personal identity\, cultural identity and our identity as a country. \n\n\nFriday 10/18 \n5:30PM: Author reception followed by a panel discussion on the meaning “home” in a multi-national world\, featuring festival authors and moderated by SIT presidency Sophia Howlett. \nSaturday 10/19 \n10:00AM to 6:30PM: A full day of author events concluding with the annual Short Story Happy Hour. \n7:00PM to 9:00PM: (Festival-affiliated event) A literary game show and launch party for local small press Mount Island (suggested donation at the door). Click here for details. \nSunday 10/20 \n10:00AM to 9:00PM: A full day of author events. \nMore for information visit brattleboroliteraryfestival.org. The Brattleboro Literary Festival was founded in 2002 by a very small group of bibliophiles from area bookstores and libraries. The very first festival featured Nobel Prize winning legend Saul Bellow in his last public appearance. Since then the festival has gone on to present over 400 authors\, including winners of the Pulitzer Prize\, National Book Award\, National Book Critics Circle Award\, Newbery Medal\, and the Caldecott Medal.
URL:https://118elliot.com/event/the-brattleboro-literary-festival/2019-10-18/
LOCATION:118 Elliot
CATEGORIES:Free,Literary
ATTACH;FMTTYPE=image/jpeg:https://118elliot.com/wp-content/uploads/2019/02/2019litfest.jpg
ORGANIZER;CN="Brattleboro Literary Festival":MAILTO:vtbookfest@gmail.com
END:VEVENT
END:VCALENDAR