BEGIN:VCALENDAR
VERSION:2.0
PRODID:-//118 Elliot - ECPv6.15.17.1//NONSGML v1.0//EN
CALSCALE:GREGORIAN
METHOD:PUBLISH
X-ORIGINAL-URL:https://118elliot.com
X-WR-CALDESC:Events for 118 Elliot
REFRESH-INTERVAL;VALUE=DURATION:PT1H
X-Robots-Tag:noindex
X-PUBLISHED-TTL:PT1H
BEGIN:VTIMEZONE
TZID:America/New_York
BEGIN:DAYLIGHT
TZOFFSETFROM:-0500
TZOFFSETTO:-0400
TZNAME:EDT
DTSTART:20220313T070000
END:DAYLIGHT
BEGIN:STANDARD
TZOFFSETFROM:-0400
TZOFFSETTO:-0500
TZNAME:EST
DTSTART:20221106T060000
END:STANDARD
BEGIN:DAYLIGHT
TZOFFSETFROM:-0500
TZOFFSETTO:-0400
TZNAME:EDT
DTSTART:20230312T070000
END:DAYLIGHT
BEGIN:STANDARD
TZOFFSETFROM:-0400
TZOFFSETTO:-0500
TZNAME:EST
DTSTART:20231105T060000
END:STANDARD
BEGIN:DAYLIGHT
TZOFFSETFROM:-0500
TZOFFSETTO:-0400
TZNAME:EDT
DTSTART:20240310T070000
END:DAYLIGHT
BEGIN:STANDARD
TZOFFSETFROM:-0400
TZOFFSETTO:-0500
TZNAME:EST
DTSTART:20241103T060000
END:STANDARD
END:VTIMEZONE
BEGIN:VEVENT
DTSTART;TZID=America/New_York:20230228T173000
DTEND;TZID=America/New_York:20230228T200000
DTSTAMP:20260425T080442
CREATED:20180617T232816Z
LAST-MODIFIED:20240329T223406Z
UID:390-1677605400-1677614400@118elliot.com
SUMMARY:Tango Tuesdays
DESCRIPTION:Delicious tango right here in Brattleboro since 2000\, with friendly classes\, practicas\, milongas\, and special events. The Brattleboro Tango Community delights in welcoming dancers of all shapes\, colors & sizes\, regardless of genders or role preferences. We look forward to dancing with you! Come as you are. No partner required. Soft-soled shoes or socks – no outdoor shoes please. We hold classes every Tuesday at 118 Elliot from 5:30 to 8pm\, and monthly ‘milongas’ or larger tango dances that attract enthusiasts from far and wide to Brattleboro for a sexy\, sophisticated and culturally enriching night of dancing. Questions? Contact sally.brat.tango@gmail.com Join the Brattleboro Tango Facebook group to get the latest news on Argentine Tango events in our community.
URL:https://118elliot.com/event/tango-tuesdays/2023-02-28/
CATEGORIES:Classes & Ongoing Events
ATTACH;FMTTYPE=image/jpeg:https://118elliot.com/wp-content/uploads/2018/06/Brattleboro-Tango.jpg
END:VEVENT
END:VCALENDAR