BEGIN:VCALENDAR
VERSION:2.0
PRODID:-//118 Elliot - ECPv6.15.17.1//NONSGML v1.0//EN
CALSCALE:GREGORIAN
METHOD:PUBLISH
X-WR-CALNAME:118 Elliot
X-ORIGINAL-URL:https://118elliot.com
X-WR-CALDESC:Events for 118 Elliot
REFRESH-INTERVAL;VALUE=DURATION:PT1H
X-Robots-Tag:noindex
X-PUBLISHED-TTL:PT1H
BEGIN:VTIMEZONE
TZID:America/New_York
BEGIN:DAYLIGHT
TZOFFSETFROM:-0500
TZOFFSETTO:-0400
TZNAME:EDT
DTSTART:20220313T070000
END:DAYLIGHT
BEGIN:STANDARD
TZOFFSETFROM:-0400
TZOFFSETTO:-0500
TZNAME:EST
DTSTART:20221106T060000
END:STANDARD
BEGIN:DAYLIGHT
TZOFFSETFROM:-0500
TZOFFSETTO:-0400
TZNAME:EDT
DTSTART:20230312T070000
END:DAYLIGHT
BEGIN:STANDARD
TZOFFSETFROM:-0400
TZOFFSETTO:-0500
TZNAME:EST
DTSTART:20231105T060000
END:STANDARD
BEGIN:DAYLIGHT
TZOFFSETFROM:-0500
TZOFFSETTO:-0400
TZNAME:EDT
DTSTART:20240310T070000
END:DAYLIGHT
BEGIN:STANDARD
TZOFFSETFROM:-0400
TZOFFSETTO:-0500
TZNAME:EST
DTSTART:20241103T060000
END:STANDARD
END:VTIMEZONE
BEGIN:VEVENT
DTSTART;TZID=America/New_York:20230901T170000
DTEND;TZID=America/New_York:20230901T210000
DTSTAMP:20260423T193157
CREATED:20230830T153546Z
LAST-MODIFIED:20230830T154706Z
UID:14104-1693587600-1693602000@118elliot.com
SUMMARY:‘SOUNDS & SIGNS’ EXHIBIT
DESCRIPTION:Opens during September’s Gallery Walk\nLight for a while on 118’s island of thoughtful\, spontaneous\, creative kindredship amid the hub-bub of Brattleboro’s September first Friday Gallery Walk! \n118 will host the ‘Brattleboro Community Improvisational Orchestra’ from 5 to 9 pm at Gallery Walk with music starting at 6. These free improvisers will jam their interpretation of graphic musical scores created by community members at the previous (August) Gallery Walk.  \n118 continues to encourage creative responses to the  ‘Sounds & Signs’ exhibit\, curated by visiting jazz artist and educator Jeff Lederer\, at the September Gallery Walk. The exhibit explains what graphic musical scores are with interesting examples of them. 118 Elliot will provide material and work areas so people can enjoy experimenting with creating graphic scores\, assigning sounds to musical drawings created in groups or alone within the evening’s collective spirit.
URL:https://118elliot.com/event/sounds-signs-exhibit/2023-09-01/
LOCATION:118 Elliot
CATEGORIES:Upcoming Exhibit
ATTACH;FMTTYPE=image/jpeg:https://118elliot.com/wp-content/uploads/2023/08/sounds-thumb.jpg
END:VEVENT
END:VCALENDAR