BEGIN:VCALENDAR
VERSION:2.0
PRODID:-//118 Elliot - ECPv6.15.17.1//NONSGML v1.0//EN
CALSCALE:GREGORIAN
METHOD:PUBLISH
X-WR-CALNAME:118 Elliot
X-ORIGINAL-URL:https://118elliot.com
X-WR-CALDESC:Events for 118 Elliot
REFRESH-INTERVAL;VALUE=DURATION:PT1H
X-Robots-Tag:noindex
X-PUBLISHED-TTL:PT1H
BEGIN:VTIMEZONE
TZID:America/New_York
BEGIN:DAYLIGHT
TZOFFSETFROM:-0500
TZOFFSETTO:-0400
TZNAME:EDT
DTSTART:20190310T070000
END:DAYLIGHT
BEGIN:STANDARD
TZOFFSETFROM:-0400
TZOFFSETTO:-0500
TZNAME:EST
DTSTART:20191103T060000
END:STANDARD
BEGIN:DAYLIGHT
TZOFFSETFROM:-0500
TZOFFSETTO:-0400
TZNAME:EDT
DTSTART:20200308T070000
END:DAYLIGHT
BEGIN:STANDARD
TZOFFSETFROM:-0400
TZOFFSETTO:-0500
TZNAME:EST
DTSTART:20201101T060000
END:STANDARD
BEGIN:DAYLIGHT
TZOFFSETFROM:-0500
TZOFFSETTO:-0400
TZNAME:EDT
DTSTART:20210314T070000
END:DAYLIGHT
BEGIN:STANDARD
TZOFFSETFROM:-0400
TZOFFSETTO:-0500
TZNAME:EST
DTSTART:20211107T060000
END:STANDARD
END:VTIMEZONE
BEGIN:VEVENT
DTSTART;TZID=America/New_York:20200208T130000
DTEND;TZID=America/New_York:20200208T150000
DTSTAMP:20260425T162254
CREATED:20200129T233306Z
LAST-MODIFIED:20200129T233307Z
UID:5109-1581166800-1581174000@118elliot.com
SUMMARY:Saturday Words Workshops
DESCRIPTION:Semi-Regular Saturday Words Workshops\nAt 118 Elliot in Brattleboro\nJanuary—February dates\nWhy? For Brattleboro Words Project Community Researchers (and those interested in volunteering with the Project) to collaborate with members of the Project’s Production Team. Ask questions\, get feedback on scripts\, rough cuts\, approach and learn how to turn your stories into audio segments for the Brattleboro Words Trail. \nPlease bring your own computers and earphones if working on audio edits (organizers will try to bring a couple pairs of earphones you can borrow if you don’t have any but cannot guarantee). The Project’s default sound editing program is cloud-based\, free SOUNDTRAP but you can come work with any program you like. \n1-3 PM on the following dates:\nJanuary 18 \nJanuary 25 \nFebruary 8 \nFebruary 22 \nFebruary 29
URL:https://118elliot.com/event/saturday-words-workshops/2020-02-08/
LOCATION:118 Elliot
CATEGORIES:Free
ATTACH;FMTTYPE=image/png:https://118elliot.com/wp-content/uploads/2020/01/Saturday-Words-Workshops-FEBRUARY.png
ORGANIZER;CN="Brattleboro Words Project":MAILTO:brattleborowords@gmail.com
END:VEVENT
END:VCALENDAR