BEGIN:VCALENDAR
VERSION:2.0
PRODID:-//118 Elliot - ECPv6.15.17.1//NONSGML v1.0//EN
CALSCALE:GREGORIAN
METHOD:PUBLISH
X-ORIGINAL-URL:https://118elliot.com
X-WR-CALDESC:Events for 118 Elliot
REFRESH-INTERVAL;VALUE=DURATION:PT1H
X-Robots-Tag:noindex
X-PUBLISHED-TTL:PT1H
BEGIN:VTIMEZONE
TZID:America/New_York
BEGIN:DAYLIGHT
TZOFFSETFROM:-0500
TZOFFSETTO:-0400
TZNAME:EDT
DTSTART:20180311T070000
END:DAYLIGHT
BEGIN:STANDARD
TZOFFSETFROM:-0400
TZOFFSETTO:-0500
TZNAME:EST
DTSTART:20181104T060000
END:STANDARD
BEGIN:DAYLIGHT
TZOFFSETFROM:-0500
TZOFFSETTO:-0400
TZNAME:EDT
DTSTART:20190310T070000
END:DAYLIGHT
BEGIN:STANDARD
TZOFFSETFROM:-0400
TZOFFSETTO:-0500
TZNAME:EST
DTSTART:20191103T060000
END:STANDARD
BEGIN:DAYLIGHT
TZOFFSETFROM:-0500
TZOFFSETTO:-0400
TZNAME:EDT
DTSTART:20200308T070000
END:DAYLIGHT
BEGIN:STANDARD
TZOFFSETFROM:-0400
TZOFFSETTO:-0500
TZNAME:EST
DTSTART:20201101T060000
END:STANDARD
END:VTIMEZONE
BEGIN:VEVENT
DTSTART;TZID=America/New_York:20191214T130000
DTEND;TZID=America/New_York:20191214T160000
DTSTAMP:20260425T193446
CREATED:20191213T151954Z
LAST-MODIFIED:20191213T151954Z
UID:4952-1576328400-1576339200@118elliot.com
SUMMARY:Saturday Words Workshop
DESCRIPTION:Offered by The Brattleboro Words Project\nSemi-Regular Saturday Workshops\nfor Audio Editing & Production Support\nWhy? For Brattleboro Words Project Community Researchers (and those interested in volunteering with the Project) to collaborate with members of the Project’s Production Team. Ask questions\, get feedback on scripts\, rough cuts\, approach and learn how to turn your stories into audio segments for the Brattleboro Words Trail. \nPARTICIPANTS:  Please SIGN UP by Friday noon the day before using this online form: \nWorkshop Sign-up Form \nPlease bring your own computers and earphones if working on audio edits (organizers will try to bring a couple pairs of earphones you can borrow if you don’t have any but cannot guarantee). The Project’s default sound editing program is cloud-based\, free SOUNDTRAP but you can come work with any program you like. \nSchedule\nDecember\n12/7\, 1-4 PM \n12/14\, 1-4 PM \n12/21\, 1-4 PM \nJanuary\n1/4\, 12-3 PM \n1/11\, 12-3 PM \n1/18\, 12-3 PM \nFebruary and beyond dates to be announced in mid-January. See updates here on our website or on Facebook.
URL:https://118elliot.com/event/saturday-words-workshop/2019-12-14/
LOCATION:118 Elliot
CATEGORIES:Free,General,Literary
ATTACH;FMTTYPE=image/png:https://118elliot.com/wp-content/uploads/2019/12/Saturday-Words-Workshops-FB.png
ORGANIZER;CN="Brattleboro Words Project":MAILTO:brattleborowords@gmail.com
END:VEVENT
END:VCALENDAR