BEGIN:VCALENDAR
VERSION:2.0
PRODID:-//118 Elliot - ECPv6.15.17.1//NONSGML v1.0//EN
CALSCALE:GREGORIAN
METHOD:PUBLISH
X-ORIGINAL-URL:https://118elliot.com
X-WR-CALDESC:Events for 118 Elliot
REFRESH-INTERVAL;VALUE=DURATION:PT1H
X-Robots-Tag:noindex
X-PUBLISHED-TTL:PT1H
BEGIN:VTIMEZONE
TZID:America/New_York
BEGIN:DAYLIGHT
TZOFFSETFROM:-0500
TZOFFSETTO:-0400
TZNAME:EDT
DTSTART:20170312T070000
END:DAYLIGHT
BEGIN:STANDARD
TZOFFSETFROM:-0400
TZOFFSETTO:-0500
TZNAME:EST
DTSTART:20171105T060000
END:STANDARD
BEGIN:DAYLIGHT
TZOFFSETFROM:-0500
TZOFFSETTO:-0400
TZNAME:EDT
DTSTART:20180311T070000
END:DAYLIGHT
BEGIN:STANDARD
TZOFFSETFROM:-0400
TZOFFSETTO:-0500
TZNAME:EST
DTSTART:20181104T060000
END:STANDARD
BEGIN:DAYLIGHT
TZOFFSETFROM:-0500
TZOFFSETTO:-0400
TZNAME:EDT
DTSTART:20190310T070000
END:DAYLIGHT
BEGIN:STANDARD
TZOFFSETFROM:-0400
TZOFFSETTO:-0500
TZNAME:EST
DTSTART:20191103T060000
END:STANDARD
END:VTIMEZONE
BEGIN:VEVENT
DTSTART;TZID=America/New_York:20180907T173000
DTEND;TZID=America/New_York:20180907T210000
DTSTAMP:20260424T155412
CREATED:20180801T220620Z
LAST-MODIFIED:20220201T234347Z
UID:1057-1536341400-1536354000@118elliot.com
SUMMARY:Onyxed Goat \, New Work of Justin A. Kenney & Laura Jane Walker
DESCRIPTION:The Onyxed Goat is a multi-media showing of new work by Laura Jane Walker and Justin A. Kenney. Partners in life and Art\, Walker and Kenney have collaborated on this exhibition which showcases the artists at the heights of their respective technical and creative lives in the studio. Shellack\, nails\, rusted metals\, pine board\, are some of the materials used in these large collaged assemblages which also involve carving and burning to create depth and sheen. These works live on the cusp of abstraction. Kenny\, a sculptor by trade\, creates architectural forms\, with an urban sensibility. Walker by contrast\, creates anthropomorphically\, enlisting the i-ching for inspiration\, allowing her forms to spread out before her\, until there is a clear sense of presence which can be formally honed and defined through the various techniques in her employ. Together\, this body of work illuminates the inspirational dynamic of a team sharing space\, an evolving ideology and a passion for making. This show will be up until November 1.
URL:https://118elliot.com/event/onyxed-goat-new-work-of-justin-a-kenney-laura-jane-walker/2018-09-07/
CATEGORIES:Past Exhibit
ATTACH;FMTTYPE=image/jpeg:https://118elliot.com/wp-content/uploads/2018/08/onyx_wide.jpg
END:VEVENT
END:VCALENDAR