BEGIN:VCALENDAR
VERSION:2.0
PRODID:-//118 Elliot - ECPv6.15.17.1//NONSGML v1.0//EN
CALSCALE:GREGORIAN
METHOD:PUBLISH
X-WR-CALNAME:118 Elliot
X-ORIGINAL-URL:https://118elliot.com
X-WR-CALDESC:Events for 118 Elliot
REFRESH-INTERVAL;VALUE=DURATION:PT1H
X-Robots-Tag:noindex
X-PUBLISHED-TTL:PT1H
BEGIN:VTIMEZONE
TZID:America/New_York
BEGIN:DAYLIGHT
TZOFFSETFROM:-0500
TZOFFSETTO:-0400
TZNAME:EDT
DTSTART:20180311T070000
END:DAYLIGHT
BEGIN:STANDARD
TZOFFSETFROM:-0400
TZOFFSETTO:-0500
TZNAME:EST
DTSTART:20181104T060000
END:STANDARD
BEGIN:DAYLIGHT
TZOFFSETFROM:-0500
TZOFFSETTO:-0400
TZNAME:EDT
DTSTART:20190310T070000
END:DAYLIGHT
BEGIN:STANDARD
TZOFFSETFROM:-0400
TZOFFSETTO:-0500
TZNAME:EST
DTSTART:20191103T060000
END:STANDARD
BEGIN:DAYLIGHT
TZOFFSETFROM:-0500
TZOFFSETTO:-0400
TZNAME:EDT
DTSTART:20200308T070000
END:DAYLIGHT
BEGIN:STANDARD
TZOFFSETFROM:-0400
TZOFFSETTO:-0500
TZNAME:EST
DTSTART:20201101T060000
END:STANDARD
END:VTIMEZONE
BEGIN:VEVENT
DTSTART;TZID=America/New_York:20190607T173000
DTEND;TZID=America/New_York:20190607T203000
DTSTAMP:20260424T160612
CREATED:20181219T185517Z
LAST-MODIFIED:20220201T230201Z
UID:2477-1559928600-1559939400@118elliot.com
SUMMARY:Waltz: The Work of Ricia Gordon\, Lesle Lewis\, and Humberto Ramirez
DESCRIPTION:A group exhibit featuring the work of local artists Ricia Gordon\, Lesle Lewis\, and Humberto Ramirez. \nOpening reception: Friday June 7\, 5:30 to 8:30PM. \nGallery hours: Saturday June 8\, 15\, 22\, and 29\, 12:00 to 5:00PM\, or by appointment.
URL:https://118elliot.com/event/june-art-exhibit-waltz-gordon-lewis-ramirez/2019-06-07/
CATEGORIES:Past Exhibit
ATTACH;FMTTYPE=image/jpeg:https://118elliot.com/wp-content/uploads/2018/12/waltz_wide.jpg
ORGANIZER;CN="118 Gallery":MAILTO:gallery@118elliot.com
END:VEVENT
END:VCALENDAR