BEGIN:VCALENDAR
VERSION:2.0
PRODID:-//118 Elliot - ECPv6.15.17.1//NONSGML v1.0//EN
CALSCALE:GREGORIAN
METHOD:PUBLISH
X-ORIGINAL-URL:https://118elliot.com
X-WR-CALDESC:Events for 118 Elliot
REFRESH-INTERVAL;VALUE=DURATION:PT1H
X-Robots-Tag:noindex
X-PUBLISHED-TTL:PT1H
BEGIN:VTIMEZONE
TZID:America/New_York
BEGIN:DAYLIGHT
TZOFFSETFROM:-0500
TZOFFSETTO:-0400
TZNAME:EDT
DTSTART:20220313T070000
END:DAYLIGHT
BEGIN:STANDARD
TZOFFSETFROM:-0400
TZOFFSETTO:-0500
TZNAME:EST
DTSTART:20221106T060000
END:STANDARD
BEGIN:DAYLIGHT
TZOFFSETFROM:-0500
TZOFFSETTO:-0400
TZNAME:EDT
DTSTART:20230312T070000
END:DAYLIGHT
BEGIN:STANDARD
TZOFFSETFROM:-0400
TZOFFSETTO:-0500
TZNAME:EST
DTSTART:20231105T060000
END:STANDARD
BEGIN:DAYLIGHT
TZOFFSETFROM:-0500
TZOFFSETTO:-0400
TZNAME:EDT
DTSTART:20240310T070000
END:DAYLIGHT
BEGIN:STANDARD
TZOFFSETFROM:-0400
TZOFFSETTO:-0500
TZNAME:EST
DTSTART:20241103T060000
END:STANDARD
END:VTIMEZONE
BEGIN:VEVENT
DTSTART;TZID=America/New_York:20230407T173000
DTEND;TZID=America/New_York:20230407T203000
DTSTAMP:20260424T155410
CREATED:20230226T003244Z
LAST-MODIFIED:20230407T141658Z
UID:11777-1680888600-1680899400@118elliot.com
SUMMARY:Health Care and Rehabilitation Services Community Art Show
DESCRIPTION:OPENING RECEPTION\, Friday April 7\, 5:30-8:30pm\nREGULAR GALLERY HOURS: Fridays (4:00-7:00 pm) and Saturdays and Sundays (12:00-4:00pm) throughout April. \nHealth Care and Rehabilitation Services (HCRS)\, southeastern Vermont’s non-profit\, community mental-health agency\, serving 4\,000 individuals challenged by mental health\, substance use\, and developmental disability issues each year\, will host a multidisciplinary art show at the 118 Elliot Street Gallery in Brattleboro\, Vermont\, during the month of April. \nThe artwork\, created by a vast array of talented artists\, both classically trained and outsiders\, all part of the HCRS community\, reflects the health and wellness benefits of the creative arts.\n			 \n				\n				\n				\n			\n				\n				\n				PRESS RELEASE \nHCRS TO HOST ART SHOW AT 118 ELLIOT IN BRATTLEBORO \nSpringfield\, VT\, March 21\, 2023 – Health Care and Rehabilitation Services (HCRS)\, Southeastern Vermont’s community mental health agency\, announced today that they will be hosting a multidisciplinary art show at 118 Elliot in Brattleboro\, Vermont\, during the month of April. The artwork comes from a vast array of talented artists\, both classically trained and outsiders alike\, who are part of the HCRS community. The show is expected to represent more than 50 artists who are employed and/or served by the non-profit agency. \nAn opening reception will be held on Friday\, April 7\, from 5:30 to 8:30 pm\, featuring live music performed by Shishka Bob and Gary. Light refreshments will be served. \nHCRS welcomes the community to join them at the opening reception to celebrate creative expression through the arts. The community is also welcome to view the artwork during the following open hours at 118 Elliot: Fridays (April 14 & 21) 3:00-7:00 pm\, Saturdays (April 8\, 15\, & 22) 12:00-4:00 pm\, and Sundays (April 9\, 16\, & 23) 12:00-4:00 pm. \nThe annual show is coordinated by HCRS Case Manager\, Jonathan Mattoon\, who also offers art wellness for the people he supports. According to Jonathan\, “We’re excited to be hosting our 4th annual art show this year. Art can be a very powerful tool for self-discovery and growth\, and through meaning\, give people an opportunity for greater connection in the community. The opportunity for these artists to display their work is one more step in achieving wellness and sharing with the community.” \nHCRS’ CEO\, George Karabakakis\, Ph.D.\, states\, “Jonathan’s passion for the arts led him to organize this month-long art exhibition. HCRS believes in the therapeutic value of creative expression and looks forward to seeing the creative artwork entered in the show this year.” \nJonathan concludes\, “We hope you will join us as we celebrate creativity\, the arts\, and expression\, and how these all synergize for overall wellness.” \nAbout HCRSFounded in 1967\, HCRS is a non-profit\, community mental health agency serving Vermonters in Windham and Windsor counties. HCRS serves over 4\,000 individuals every year through its mental health\, substance use\, and developmental disability programs. The Agency provides holistic care for its clients\, supporting them with employment\, housing\, transportation\, and other social service needs. Visit www.hcrs.org for more information. \nPress Contact:Alice J. BradeenHCRS(802) 886-4567 ext. 2191abradeen@hcrs.org
URL:https://118elliot.com/event/health-care-and-rehabilitation-services-community-art-show/2023-04-07/
LOCATION:118 Elliot
CATEGORIES:Upcoming Exhibit
ATTACH;FMTTYPE=image/jpeg:https://118elliot.com/wp-content/uploads/2023/02/hcrs-show.jpg
END:VEVENT
END:VCALENDAR