BEGIN:VCALENDAR
VERSION:2.0
PRODID:-//118 Elliot - ECPv6.15.17.1//NONSGML v1.0//EN
CALSCALE:GREGORIAN
METHOD:PUBLISH
X-ORIGINAL-URL:https://118elliot.com
X-WR-CALDESC:Events for 118 Elliot
REFRESH-INTERVAL;VALUE=DURATION:PT1H
X-Robots-Tag:noindex
X-PUBLISHED-TTL:PT1H
BEGIN:VTIMEZONE
TZID:America/New_York
BEGIN:DAYLIGHT
TZOFFSETFROM:-0500
TZOFFSETTO:-0400
TZNAME:EDT
DTSTART:20180311T070000
END:DAYLIGHT
BEGIN:STANDARD
TZOFFSETFROM:-0400
TZOFFSETTO:-0500
TZNAME:EST
DTSTART:20181104T060000
END:STANDARD
BEGIN:DAYLIGHT
TZOFFSETFROM:-0500
TZOFFSETTO:-0400
TZNAME:EDT
DTSTART:20190310T070000
END:DAYLIGHT
BEGIN:STANDARD
TZOFFSETFROM:-0400
TZOFFSETTO:-0500
TZNAME:EST
DTSTART:20191103T060000
END:STANDARD
BEGIN:DAYLIGHT
TZOFFSETFROM:-0500
TZOFFSETTO:-0400
TZNAME:EDT
DTSTART:20200308T070000
END:DAYLIGHT
BEGIN:STANDARD
TZOFFSETFROM:-0400
TZOFFSETTO:-0500
TZNAME:EST
DTSTART:20201101T060000
END:STANDARD
END:VTIMEZONE
BEGIN:VEVENT
DTSTART;TZID=America/New_York:20191009T190000
DTEND;TZID=America/New_York:20191009T210000
DTSTAMP:20260424T171946
CREATED:20191010T022706Z
LAST-MODIFIED:20191010T165246Z
UID:4480-1570647600-1570654800@118elliot.com
SUMMARY:Exploring Racial Sobriety\, Climate Change\, and Our Better Angels through Interplay
DESCRIPTION:Exploring Racial Sobriety\, Climate Change\, and Our Better Angels through InterPlay \nFour Wednesdays in October: Oct 9\, 16\, 30—7:00-9:00 PM \nIt’s too easy to burn out when dealing with life and death issues. Using the creative parts of ourselves along with the rational\, thinking parts has helped many of us to experience the opposite of burnout — body wisdom\, joy\, hope and new energy that come with playing with each other and the issues. \nRacial Healing: is a hunger that started in childhoodand is about to explode because we as a nation are FINALLY beginning to look at ourselves.\nClimate Change: World on a Hot Tin Roof….\nBetter Angels: Telling our stories can help us find our sweeter selves \nWe will play with all these themes for 4 weeks of Wednesdays. Please join us if you have little or tons of experience with moving\, talking\, babbling\, toning — Our bodies have more wisdom that we may realize. \nJudith Reichsman has been an InterPlay leader for 25 years. She has Masters degrees in Dance and Theology. \nFour Wednesdays in October: Oct 9\, 16\, 30—7:00-9:00 PM\n118 Elliot St\, Brattleboro\, VT
URL:https://118elliot.com/event/exploring-racial-sobriety-climate-change-and-our-better-angels-through-interplay/2019-10-09/
LOCATION:118 Elliot
CATEGORIES:Climate Justice,Dance,General,Music
ATTACH;FMTTYPE=image/png:https://118elliot.com/wp-content/uploads/2019/09/Screen-Shot-2019-09-09-at-2.29.53-PM.png
END:VEVENT
END:VCALENDAR