BEGIN:VCALENDAR
VERSION:2.0
PRODID:-//118 Elliot - ECPv6.15.17.1//NONSGML v1.0//EN
CALSCALE:GREGORIAN
METHOD:PUBLISH
X-WR-CALNAME:118 Elliot
X-ORIGINAL-URL:https://118elliot.com
X-WR-CALDESC:Events for 118 Elliot
REFRESH-INTERVAL;VALUE=DURATION:PT1H
X-Robots-Tag:noindex
X-PUBLISHED-TTL:PT1H
BEGIN:VTIMEZONE
TZID:America/New_York
BEGIN:DAYLIGHT
TZOFFSETFROM:-0500
TZOFFSETTO:-0400
TZNAME:EDT
DTSTART:20180311T070000
END:DAYLIGHT
BEGIN:STANDARD
TZOFFSETFROM:-0400
TZOFFSETTO:-0500
TZNAME:EST
DTSTART:20181104T060000
END:STANDARD
BEGIN:DAYLIGHT
TZOFFSETFROM:-0500
TZOFFSETTO:-0400
TZNAME:EDT
DTSTART:20190310T070000
END:DAYLIGHT
BEGIN:STANDARD
TZOFFSETFROM:-0400
TZOFFSETTO:-0500
TZNAME:EST
DTSTART:20191103T060000
END:STANDARD
BEGIN:DAYLIGHT
TZOFFSETFROM:-0500
TZOFFSETTO:-0400
TZNAME:EDT
DTSTART:20200308T070000
END:DAYLIGHT
BEGIN:STANDARD
TZOFFSETFROM:-0400
TZOFFSETTO:-0500
TZNAME:EST
DTSTART:20201101T060000
END:STANDARD
END:VTIMEZONE
BEGIN:VEVENT
DTSTART;TZID=America/New_York:20191004T160000
DTEND;TZID=America/New_York:20191004T200000
DTSTAMP:20260424T155120
CREATED:20190906T131452Z
LAST-MODIFIED:20191002T183920Z
UID:4318-1570204800-1570219200@118elliot.com
SUMMARY:Downtown Design Plan Arts Event
DESCRIPTION:An open studio for the Brattleboro Planning Commission’s Downtown Design Plan. \nStop in at the charrette studio at 118 Elliot Street during Gallery Walk. Bring images or jot down ideas for public art installations and artful public space in downtown to post on our inspiration wall. Indicate your preferences for public art strategies and locations. \n 
URL:https://118elliot.com/event/downtown-design-plan-arts-event/2019-10-04/
LOCATION:118 Elliot
CATEGORIES:General
ATTACH;FMTTYPE=image/jpeg:https://118elliot.com/wp-content/uploads/2019/09/Downtown-Design-Plan-Public-Meetings.jpg
END:VEVENT
END:VCALENDAR