BEGIN:VCALENDAR
VERSION:2.0
PRODID:-//118 Elliot - ECPv6.15.17.1//NONSGML v1.0//EN
CALSCALE:GREGORIAN
METHOD:PUBLISH
X-WR-CALNAME:118 Elliot
X-ORIGINAL-URL:https://118elliot.com
X-WR-CALDESC:Events for 118 Elliot
REFRESH-INTERVAL;VALUE=DURATION:PT1H
X-Robots-Tag:noindex
X-PUBLISHED-TTL:PT1H
BEGIN:VTIMEZONE
TZID:America/New_York
BEGIN:DAYLIGHT
TZOFFSETFROM:-0500
TZOFFSETTO:-0400
TZNAME:EDT
DTSTART:20220313T070000
END:DAYLIGHT
BEGIN:STANDARD
TZOFFSETFROM:-0400
TZOFFSETTO:-0500
TZNAME:EST
DTSTART:20221106T060000
END:STANDARD
BEGIN:DAYLIGHT
TZOFFSETFROM:-0500
TZOFFSETTO:-0400
TZNAME:EDT
DTSTART:20230312T070000
END:DAYLIGHT
BEGIN:STANDARD
TZOFFSETFROM:-0400
TZOFFSETTO:-0500
TZNAME:EST
DTSTART:20231105T060000
END:STANDARD
BEGIN:DAYLIGHT
TZOFFSETFROM:-0500
TZOFFSETTO:-0400
TZNAME:EDT
DTSTART:20240310T070000
END:DAYLIGHT
BEGIN:STANDARD
TZOFFSETFROM:-0400
TZOFFSETTO:-0500
TZNAME:EST
DTSTART:20241103T060000
END:STANDARD
END:VTIMEZONE
BEGIN:VEVENT
DTSTART;TZID=America/New_York:20230602T170000
DTEND;TZID=America/New_York:20230602T210000
DTSTAMP:20260423T193447
CREATED:20230401T045759Z
LAST-MODIFIED:20230727T004627Z
UID:12179-1685725200-1685739600@118elliot.com
SUMMARY:Creative Relations: Multi-Media Explorations
DESCRIPTION:Great Grandfather Jonas Zaldokas Funeral by Liza King \n			 \n				\n				\n				Extended to the end of July\nCreative Relations\, a multi-media group exhibit where 10 artists explore how family history\, significant relationships and social/cultural contexts influence the making of art\, will open Friday\, June 2\, 2023 at 118 Elliot. In the show\, some artists explore how creativity helps heal the legacy of personal and cultural trauma. Other artists’ work arises from discovering their voice in relation to the past. Each artist interprets and shares the theme\, often including text\, through their own lens\, inviting viewers into the creative process to create a deeper experience for all. The exhibition includes work by: Toto Feldman\, Liza King\, Shanta Lee\, John Loggia\, Phyllis Odessey\, Tina Olsen\, Jack Pombriant\, Lissa Weinmann\, Kathryn Wocell and Hope Zanes. \nParticipating artists will attend the Friday\, June 2 Gallery Walk opening from 5:00 to 9:00 pm. Refreshments will be served. The show will run through the month. Gallery Hours are Fridays and Saturdays from 4:00 to 7:00 pm or by appointment by contacting 118elliot@gmail.com. \nSeveral artists in the exhibit will create unique installations to amplify how their work is related to personal history. For example\, 85-year-old Hope Zanes relates how her innovative large gum bichromate photographs relate to her long-time neighbor and world renowned photographer\, Lotte Jacobi\, who encouraged her in this process. \nTwo public events in June will continue to explore the ‘Creative Relations’ theme:On Thursday\, June 15\, 2023 from 5:30 to 7:00 pm at 118 Elliot\, select exhibition artists will share personal perspectives on how relationships influence their work in a roundtable discussion led by an insightful\, experienced moderator. The public is invited to join this discussion on what fuels creativity and how it relates to specific events in your life. \nOn Sunday\, June 11\, from 11:00 to 1:00 pm at 118 Elliot\, writers including Liza King\, Arlene Distler\, Tina Olsen\, Laurie Panther and Steve Minkin will explore this rich theme through spoken word at a ‘Creative Relations Poetry Brunch.’ \n			 \n				\n				\n				\n			\n				\n				\n				Phyllis Odyssey\, hand cut photo collage
URL:https://118elliot.com/event/creative-relations-2023/2023-06-02/
LOCATION:118 Elliot
CATEGORIES:Upcoming Exhibit
ATTACH;FMTTYPE=image/jpeg:https://118elliot.com/wp-content/uploads/2023/04/creative-relations_thumb.jpg
END:VEVENT
END:VCALENDAR