BEGIN:VCALENDAR
VERSION:2.0
PRODID:-//118 Elliot - ECPv6.15.17.1//NONSGML v1.0//EN
CALSCALE:GREGORIAN
METHOD:PUBLISH
X-WR-CALNAME:118 Elliot
X-ORIGINAL-URL:https://118elliot.com
X-WR-CALDESC:Events for 118 Elliot
REFRESH-INTERVAL;VALUE=DURATION:PT1H
X-Robots-Tag:noindex
X-PUBLISHED-TTL:PT1H
BEGIN:VTIMEZONE
TZID:America/New_York
BEGIN:DAYLIGHT
TZOFFSETFROM:-0500
TZOFFSETTO:-0400
TZNAME:EDT
DTSTART:20180311T070000
END:DAYLIGHT
BEGIN:STANDARD
TZOFFSETFROM:-0400
TZOFFSETTO:-0500
TZNAME:EST
DTSTART:20181104T060000
END:STANDARD
BEGIN:DAYLIGHT
TZOFFSETFROM:-0500
TZOFFSETTO:-0400
TZNAME:EDT
DTSTART:20190310T070000
END:DAYLIGHT
BEGIN:STANDARD
TZOFFSETFROM:-0400
TZOFFSETTO:-0500
TZNAME:EST
DTSTART:20191103T060000
END:STANDARD
BEGIN:DAYLIGHT
TZOFFSETFROM:-0500
TZOFFSETTO:-0400
TZNAME:EDT
DTSTART:20200308T070000
END:DAYLIGHT
BEGIN:STANDARD
TZOFFSETFROM:-0400
TZOFFSETTO:-0500
TZNAME:EST
DTSTART:20201101T060000
END:STANDARD
END:VTIMEZONE
BEGIN:VEVENT
DTSTART;VALUE=DATE:20190718
DTEND;VALUE=DATE:20190719
DTSTAMP:20260424T155401
CREATED:20190116T191244Z
LAST-MODIFIED:20220201T210056Z
UID:2550-1563408000-1563494399@118elliot.com
SUMMARY:The 7th Annual Southern Vermont Dance Festival
DESCRIPTION:The Southern Vermont Dance Festival returns July 18th – 21st 2019 for its 7th anniversary\, with an exciting round of dance classes\, lectures and performances hosted at venues all around Brattleboro. \nAs last year\, festival attendees will be invited to attend dance performances each evening as well as a choice of many different classes each day. There will be many amazing opportunities offered to the professional dancer\, dance student\, and dance enthusiast. \nFrom Thursday July 18 to Sunday the 21st\, 118 Elliot will host a wide variety of classes\, as well as a “contact jam” with choreographer Dorcas Roman. Here’s a breakdown of festival activities here at 118: \n(Please note that to attend classes you must purchase a Festival Pass. Click here to purchase your pass now.) \nThursday July 18\n7:45am Registration \nClasses offered Thursday 9:15 AM – 8:00 PM include: \nBallet\, Modern\, Assisted Thai Yoga\, Afro-Brazilian\, Contemporary Fusion\, Belly Dance\, Body Tuning\, Afro-Jazz\, Cha Cha\, Yoga Pilates\, Bollywood\, Sambe Pagode\, Contact Improvisation\, Contact Jam\, “Stomp” Style Percussion\, Let Your Feet Sing\, and more. \nRegistration is required to participate in classes. \nContact Jam with Dorcas Roman \nTIME: 8:00 PM – 10:00 PMCOST: $15\, open to the public (must pre-register) \n\nPlease not that if you have a Festival Pass that includes Thursday you can choose this as one of your classes. If you do not have a festival pass you can attend this event for $15. Click here to register for Contact Jam with Dorcas Roman. \n\nFriday July 19\n8:00 AM Registration \n\nClasses offered Friday 8:00am – 7:30pm include: \nImprovisation\, Efficient Chaos\, Yogea\, Hip Hop Your Modern Dance\, Ballet\, Modern\, Tap\, Afro-Brazilian\, Body Work\, Rainbow Tribe\, Israeli Contemporary\, Afro-Jazz\, Cabaret Style Jazz\, Hot in Heels\, Socially Conscious Choreography and Performance\, Country Swing\, Shim Sham Shimmy\, Contemporary\, Dunham Technique\, Simonson Jazz\, Acro-Yoga\, Naam Yoga and Meditation\, and more. \nClick here to register for Friday’s classes. \n\nSaturday July 20 \n8:00 AM Registration \n\nClasses offered Saturday 8:00am to 7:30pm include: \nModern\, Tap\, Ballet\, Hip Hop/Street Dance\, Upper Body Urgency\, Contact Improvisation\, Wake Up Your Vinyasa\, Collaborative Composition\, Dancing Upside Down\, Isadora Duncan\, Silvestre Modern\, Sevillanas\, Pilates\, Yoga\, Efficient Chaos\, Bollywood\, Making Political Dances\, Turkish Style Belly Dance\, Assisted Thai Yoga\, Israeli Contemporary Dance\, Visceral Improvisation\, Dunham Technique\, and more. \n\nClick here to register for Saturday’s classes. \nSunday July 21 \n8:00 AM Registration \n\nClasses offered Sunday 8:00am – 4:00pm include: \nYoga\, Jazz\, Pilates\, Ballet\, Tap\, Partnering and Partnership\, Giordano Jazz\, Visceral Improvisation\, Hot in Heels\, Contemporary\, Acro Yoga\, West African\, Belly Dance\, Flexibility\, Hip Hop/Street Dance\, and more! \nClick here to register for Sunday’s classes.
URL:https://118elliot.com/event/7th-annual-southern-vermont-dance-festival/2019-07-18/
CATEGORIES:Dance,General
ATTACH;FMTTYPE=image/jpeg:https://118elliot.com/wp-content/uploads/2019/01/svdf-jpeg-logo-281-225x300.jpg
ORGANIZER;CN="Southern Vermont Dance Festival":MAILTO:info@southernvermontdancefestival.com
END:VEVENT
END:VCALENDAR