BEGIN:VCALENDAR
VERSION:2.0
PRODID:-//118 Elliot - ECPv6.15.17.1//NONSGML v1.0//EN
CALSCALE:GREGORIAN
METHOD:PUBLISH
X-ORIGINAL-URL:https://118elliot.com
X-WR-CALDESC:Events for 118 Elliot
REFRESH-INTERVAL;VALUE=DURATION:PT1H
X-Robots-Tag:noindex
X-PUBLISHED-TTL:PT1H
BEGIN:VTIMEZONE
TZID:America/New_York
BEGIN:DAYLIGHT
TZOFFSETFROM:-0500
TZOFFSETTO:-0400
TZNAME:EDT
DTSTART:20250309T070000
END:DAYLIGHT
BEGIN:STANDARD
TZOFFSETFROM:-0400
TZOFFSETTO:-0500
TZNAME:EST
DTSTART:20251102T060000
END:STANDARD
BEGIN:DAYLIGHT
TZOFFSETFROM:-0500
TZOFFSETTO:-0400
TZNAME:EDT
DTSTART:20260308T070000
END:DAYLIGHT
BEGIN:STANDARD
TZOFFSETFROM:-0400
TZOFFSETTO:-0500
TZNAME:EST
DTSTART:20261101T060000
END:STANDARD
BEGIN:DAYLIGHT
TZOFFSETFROM:-0500
TZOFFSETTO:-0400
TZNAME:EDT
DTSTART:20270314T070000
END:DAYLIGHT
BEGIN:STANDARD
TZOFFSETFROM:-0400
TZOFFSETTO:-0500
TZNAME:EST
DTSTART:20271107T060000
END:STANDARD
END:VTIMEZONE
BEGIN:VEVENT
DTSTART;VALUE=DATE:20260206
DTEND;VALUE=DATE:20260401
DTSTAMP:20260424T184839
CREATED:20260128T001216Z
LAST-MODIFIED:20260128T001935Z
UID:15923-1770336000-1775001599@118elliot.com
SUMMARY:Sky Lights/Earth Bound 2026 (Group Exhibit)
DESCRIPTION:Schuyler Gould and Tina K. OlsenFebruary 6 – March 31\, 2026Opening reception Friday\, February 6\, 5 to 8 pm\nOpen gallery hours:Thursdays 3 to 6 pm and during 118 Elliot eventsOr by appointment 917-860-5749Artists will be available during Open Gallery HoursContacts: tinakolsen@aol.com\, skygvt@aol.com \nA joint exhibit\, Sky Lights/Earth Bound 2026\, is opening on February 6 at 118 Elliot Street in Brattleboro. The exhibit features the work of Schylar Gould and Tina K. Olsen. Gould is exhibiting his light fixtures sculpted from repurposed objects\, and Olsen is exhibiting milestone life paintings and drawings with an accompaniment of written and spoken words. \nSchuyler Gould is a sculptor\, retired building contractor\, and anti-nuclear activist. He grew up around antiques and appreciates the beauty and craftsmanship of objects that have been discarded as no longer useful or wanted. He scours the countryside looking for the detritus of a culture obsessed with everything new\, looking to repurpose such objects as unique settings for light. \nIn Sky Light\, Gould exhibits the Metropolis series which pairs antique bottles with randomly flashing lights in old iron kettles. Other work includes perforated cylinders from obsolete kerosene cookstoves which cast webs of light in geometric patterns. \nTina K. Olsen has been painting and working therapeutically in the expressive arts most of her life. Olsen studied painting at Skidmore College\, studied Abstract Expressionism with Peter Voulkas in 1978\, and worked as an arts therapist for over four decades. \nIn Earth Bound\, Olsen brings together selected pieces from decades of work\, highlighting how her dedication to her artistry has formed\, changed\, and enlightened her life. Olsen is also a poet and will perform spoken word pieces relating to selected exhibit works during Thursday gallery hours. Olsen includes in her exhibit a piece by her grandson\, Nicolas McHugh\, illustrating ten generations of Mennonites since the family’s immigration from Germany. \nI want to illuminatethe finding of my own voicethrough painting and spoken word.~Tina K. Olsen
URL:https://118elliot.com/event/sky-lights-earth-bound-exhibit/
LOCATION:118 Elliot
CATEGORIES:Upcoming Exhibit
ATTACH;FMTTYPE=image/jpeg:https://118elliot.com/wp-content/uploads/2026/01/earth-sky-banner.jpg
END:VEVENT
BEGIN:VEVENT
DTSTART;TZID=America/New_York:20260218T180000
DTEND;TZID=America/New_York:20260218T200000
DTSTAMP:20260424T184839
CREATED:20251211T180015Z
LAST-MODIFIED:20251211T180015Z
UID:15884-1771437600-1771444800@118elliot.com
SUMMARY:Architecture + Design Film Series: Van Gogh: Poets & Lovers February 18\, 2026 | Doors 6pm\, Screening 6:30pm
DESCRIPTION:Van Gogh: Poets & LoversFebruary 18\, 2026 | Doors 6pm\, Screening 6:30pmLive at Contois Auditorium\, Burlington & 118 Elliot\, Brattleboro Screen from Home\, Same Day OnlyDirected by David Bickerstaff2024\, UK\, 90 Minutes \nPREVIEW \n \nA century after acquiring its first Van Gogh\, the UK’s National Gallery hosted it’s biggest and most successful Van Gogh exhibit.This film provides the only way to see what Forbes called “a once-in-a-lifetime exhibition”. The picture quality is entrancing; every brushstroke and ridge of impasto is reproduced with extraordinary fidelity. Tracing Van Gogh’s journey from his early years in the Netherlands to his prolific period in France\, the film shines a light on the events and people that shaped his evolution as a painter. Through readings from Van Gogh’s own letters\, viewers are drawn into the artist’s inner world describing colors and compositions\, and where longing\, hope\, and despair gave rise to masterpieces that would ultimately redefine the boundaries of post-Impressionism. 
URL:https://118elliot.com/event/architecture-design-film-series-van-gogh-poets-lovers-february-18-2026-doors-6pm-screening-630pm/
LOCATION:118 Elliot
CATEGORIES:Film
ATTACH;FMTTYPE=image/png:https://118elliot.com/wp-content/uploads/2025/12/Screenshot-2025-12-11-at-10.55.09-AM.png
END:VEVENT
END:VCALENDAR