BEGIN:VCALENDAR
VERSION:2.0
PRODID:-//118 Elliot - ECPv6.15.17.1//NONSGML v1.0//EN
CALSCALE:GREGORIAN
METHOD:PUBLISH
X-ORIGINAL-URL:https://118elliot.com
X-WR-CALDESC:Events for 118 Elliot
REFRESH-INTERVAL;VALUE=DURATION:PT1H
X-Robots-Tag:noindex
X-PUBLISHED-TTL:PT1H
BEGIN:VTIMEZONE
TZID:America/New_York
BEGIN:DAYLIGHT
TZOFFSETFROM:-0500
TZOFFSETTO:-0400
TZNAME:EDT
DTSTART:20250309T070000
END:DAYLIGHT
BEGIN:STANDARD
TZOFFSETFROM:-0400
TZOFFSETTO:-0500
TZNAME:EST
DTSTART:20251102T060000
END:STANDARD
BEGIN:DAYLIGHT
TZOFFSETFROM:-0500
TZOFFSETTO:-0400
TZNAME:EDT
DTSTART:20260308T070000
END:DAYLIGHT
BEGIN:STANDARD
TZOFFSETFROM:-0400
TZOFFSETTO:-0500
TZNAME:EST
DTSTART:20261101T060000
END:STANDARD
BEGIN:DAYLIGHT
TZOFFSETFROM:-0500
TZOFFSETTO:-0400
TZNAME:EDT
DTSTART:20270314T070000
END:DAYLIGHT
BEGIN:STANDARD
TZOFFSETFROM:-0400
TZOFFSETTO:-0500
TZNAME:EST
DTSTART:20271107T060000
END:STANDARD
END:VTIMEZONE
BEGIN:VEVENT
DTSTART;VALUE=DATE:20260108
DTEND;VALUE=DATE:20260201
DTSTAMP:20260424T213723
CREATED:20260107T012500Z
LAST-MODIFIED:20260107T012943Z
UID:15909-1767830400-1769903999@118elliot.com
SUMMARY:Work in Progress: Group Show
DESCRIPTION:Mary Therese Wright\, Gayle Robertson\, Tina Olsen\, Ellen Cone Maddrey\, John Loggia\, Liza Cassidy \n118 Elliot open gallery hours: Thursdays 3 to 6 pm\, and during 118 Elliot events\nOpen Discussion with the Artists\, Thursday\, January 15\, 3 to 6 pm. \nAn experimental exhibit “Work in Progress”  is open at 118 Elliot Street in Brattleboro. The exhibit features the work of six painters who make up the 118 collective of artists: Tina Olsen\, Ellen Cone Maddrey\, Gayle Robertson\, John Loggia\, Liza Cassidy and Mary Therese Wright. The exhibit invites visitors to enter the studios of these six artists and share the process of creation. Each artist will hang work in progress on a section of the walls of 118\, changing the pieces throughout the month.  \nThe artists hope to engage visitors in discussion: How does an artist begin a painting\, and what are the steps of layering paint? How does an artist tell when a painting is finished? What does the artist do if there is a section of the painting that doesn’t work? The artists will share their own thoughts and queries about the work with each other and with visitors\, with the goal of learning from each other and building creative energy together. \nThe exhibit will be open on Thursdays from 3 to 6 pm\, during all 118 events\, and by appointment. One or more of the artists will be present each Thursday. On Thursday\, January 15\, all the artists will attend the 3 to 6 opening hours\, and host a group discussion. Refreshments will be served! \nFor those who view the exhibit during 118 Elliot events\, a “comment box” will be provided to share thoughts and ideas with the artists. \nPlease stop by 118 Elliot on a Thursday in January to view Work in Progress\, and participate in musings about the process of creation!  \nGayle Robertson has been artistically active all her life. Her experiences in the fields of lighting design\, computer graphics\, 2D and 3D traditional media\, spirituality\, end of life and bereavement\, mix to bring different lenses to what happens in her studio. She uses her art as a way to engage with the moments of life and a tool for exploring all its meaning\, calling upon her materials to bring her interests to light. She lives in Southern Vermont where she enjoys being part of the vibrant arts community.  \nTina K. Olsen has been painting and working therapeutically in the expressive arts most of her life. She moved to Brattleboro in 2006 to live near her daughter and found a community of artists at the River Gallery School and 118 Elliot. Olsen’s works in oil and watercolor bring life to the healing light of nature. \nEllen Cone Maddrey came to painting later in life after careers as a lawyer\, an elementary school teacher and a parent of three. Her artistic inspiration is deeply embedded in the mountains and waters of Seattle\, her childhood home\, and the natural world of Vermont. Her paintings express the comfort and thrill of nature through color and shape. She lives in Montclair\, New Jersey\, and has a second home in Wilmington\, Vermont.  \nJohn Loggia has been painting and working in the arts since 1979. He has maintained a practice of drawing and painting while working in film as a production designer and producer. In 2015 John opened 118 Elliot\, an arts and education center in Brattleboro\, Vermont that he runs with his partner. John\, a jazz musician\, feels that playing music and painting are two sides of the same coin with each practice informing the other and encouraging experimentation\, risk\, and unexpected revelations. \nMary Therese Wright’s artwork and community based projects have been shown throughout the United States. Wright has a keen interest in materiality whether painting\, printmaking or metalsmithing. Her current work is a response to the vibrant colors and dynamic shapes of nature. She lives in Jacksonville\, Vermont\, and draws inspiration from her deep relationship with the trails and water of Lake Whitingham. \nLiza Cassidy is a visual and performing artist with a long time studio practice in Brooklyn NYC\, and for the last seven years in her home town of Brattleboro\, Vermont.  Her focus is on large scale abstract mixed media collage utilizing discarded materials\, mostly receipts\, to convey human experience\, and plein air landscapes in oil.  She teaches Sequencing at River Gallery School as well as painting\, studio art\, and community mending/sewing sessions. She is also a long time collaborator with Theaterlab in NYC as a writer\, director and performer.
URL:https://118elliot.com/event/work-in-progress-group-show/
LOCATION:118 Elliot
CATEGORIES:Current exhibit
ATTACH;FMTTYPE=image/jpeg:https://118elliot.com/wp-content/uploads/2026/01/progress2.jpg
END:VEVENT
BEGIN:VEVENT
DTSTART;TZID=America/New_York:20260121T180000
DTEND;TZID=America/New_York:20260121T200000
DTSTAMP:20260424T213723
CREATED:20251211T175248Z
LAST-MODIFIED:20251211T175253Z
UID:15875-1769018400-1769025600@118elliot.com
SUMMARY:Architecture + Design Film Series: The Pavilion on the Water
DESCRIPTION:Doors open at 6pm\, Screening starts at 6:30pm. \nThe Pavilion on the WaterJanuary 21\, 2026 | Doors 6pm\, Screening 6:30pmLive at Contois Auditorium\, Burlington & 118 Elliot\, Brattleboro Screen from Home\, Same Day Only \nDirected by Stefano Croci & Silvia Siberini \n2023\, Italy\, 78 Minutes \nPREVIEW \n The Pavilion on Water invites viewers on an aesthetic and poetic journey into the imagination of Venetian architect Carlo Scarpa\, highlighting his deep passion for Japanese culture. Inspired by impressions from Japanese philosopher Ryosuke Hashi\, the narrative unfolds along the thread of a central question: What is beauty? This reflection bridges Scarpa’s works with traditional Japanese aesthetics\, offering opportunities to recall the poetic and emblematic episodes that defined his life. Throughout\, the narrative is infused with a sense of nostalgia for the rare phenomenon of an artist’s birth. Even after Scarpa’s passing\, his works continue to inspire wonder—a lasting gift to the world.
URL:https://118elliot.com/event/architecture-design-film-series-the-pavilion-on-the-water/
LOCATION:118 Elliot
CATEGORIES:Film
ATTACH;FMTTYPE=image/png:https://118elliot.com/wp-content/uploads/2025/12/Screenshot-2025-12-11-at-10.44.01-AM.png
END:VEVENT
END:VCALENDAR