BEGIN:VCALENDAR
VERSION:2.0
PRODID:-//118 Elliot - ECPv6.15.17.1//NONSGML v1.0//EN
CALSCALE:GREGORIAN
METHOD:PUBLISH
X-WR-CALNAME:118 Elliot
X-ORIGINAL-URL:https://118elliot.com
X-WR-CALDESC:Events for 118 Elliot
REFRESH-INTERVAL;VALUE=DURATION:PT1H
X-Robots-Tag:noindex
X-PUBLISHED-TTL:PT1H
BEGIN:VTIMEZONE
TZID:America/New_York
BEGIN:DAYLIGHT
TZOFFSETFROM:-0500
TZOFFSETTO:-0400
TZNAME:EDT
DTSTART:20250309T070000
END:DAYLIGHT
BEGIN:STANDARD
TZOFFSETFROM:-0400
TZOFFSETTO:-0500
TZNAME:EST
DTSTART:20251102T060000
END:STANDARD
BEGIN:DAYLIGHT
TZOFFSETFROM:-0500
TZOFFSETTO:-0400
TZNAME:EDT
DTSTART:20260308T070000
END:DAYLIGHT
BEGIN:STANDARD
TZOFFSETFROM:-0400
TZOFFSETTO:-0500
TZNAME:EST
DTSTART:20261101T060000
END:STANDARD
BEGIN:DAYLIGHT
TZOFFSETFROM:-0500
TZOFFSETTO:-0400
TZNAME:EDT
DTSTART:20270314T070000
END:DAYLIGHT
BEGIN:STANDARD
TZOFFSETFROM:-0400
TZOFFSETTO:-0500
TZNAME:EST
DTSTART:20271107T060000
END:STANDARD
END:VTIMEZONE
BEGIN:VEVENT
DTSTART;TZID=America/New_York:20260422T180000
DTEND;TZID=America/New_York:20260422T200000
DTSTAMP:20260424T201432
CREATED:20251211T181857Z
LAST-MODIFIED:20251211T181857Z
UID:15901-1776880800-1776888000@118elliot.com
SUMMARY:The Automat April 22\, 2025 | Doors 6pm\, Screening 6:30pm Live at Contois Auditorium\, Burlington & 118 Elliot\, Brattleboro  Screen from Home\, Same Day Only Directed by Lisa Hurwitz 2021\, USA\, 79 Minutes
DESCRIPTION:he AutomatApril 22\, 2025 | Doors 6pm\, Screening 6:30pmLive at Contois Auditorium\, Burlington & 118 Elliot\, Brattleboro Screen from Home\, Same Day OnlyDirected by Lisa Hurwitz2021\, USA\, 79 Minutes \n \nPREVIEW \nOriginating in Philadelphia\, Horn & Hardart’s Automat was America’s original and most beloved restaurant chain where generations of Americans ate and drank coffee at elegant communal marble tables\, free from social barriers. Pie? Coffee? Put your nickel in\, then open the little glass door to a freshly made delight. This ritual made Horn & Hardart the place to meet\, where people connected over good food and coffee. The Automat illustrates how the company served the public great food and at the same time treated its employees with fairness and integrity. The legacy of the Automat spans a century\, chronicling it’s rise as an iconic restaurant chain that inspired Starbucks\, and it’s eventual decline\, sealed by the rise of fast food that forever transformed the American dining landscape.
URL:https://118elliot.com/event/the-automat-april-22-2025-doors-6pm-screening-630pm-live-at-contois-auditorium-burlington-118-elliot-brattleboro-screen-from-home-same-day-only-directed-by-lisa-hurwitz-2021-usa-79-minute/
LOCATION:118 Elliot
CATEGORIES:Film
ATTACH;FMTTYPE=image/png:https://118elliot.com/wp-content/uploads/2025/12/Screenshot-2025-12-11-at-11.12.45-AM.png
END:VEVENT
END:VCALENDAR